BEGIN:VCALENDAR
VERSION:2.0
PRODID:-//Center for the Environment//NONSGML v1.0//EN
CALSCALE:GREGORIAN
METHOD:PUBLISH
BEGIN:VEVENT
UID:8439-0
SUMMARY:LEC Seminar with Laurie Marker: “Saving The Cheetah to Change The World”
DTSTART:20260506T160000Z
DTEND:20260506T170000Z
DTSTAMP:20260414T204432Z
LAST-MODIFIED:20260414T204433Z
SEQUENCE:0
LOCATION:McDonnell Hall 362
DESCRIPTION:\nJoin the Living Earth Collaborative for a seminar by Dr. Laurie Marker.\n\n\n\nSpeaker Bio:Dr. Laurie Marker is Executive Director of Cheetah Conservation Fund (CCF). Prior to becoming Executive Director in 1990\, Dr. Marker began her career working with cheetahs at Wildlife Safari\, a wildlife park in the United States. She first traveled to South West Africa (now Namibia) while conducting research into the rewilding of captive-born cheetahs\, during which she proved that cheetahs held in captivity could be taught to hunt.\n\n\n\nTalk Title: “Saving The Cheetah to Change The World”\n\n\n\n\nLearn more her\n\n\n\n\n\n
END:VEVENT
END:VCALENDAR