BEGIN:VCALENDAR
VERSION:2.0
PRODID:-//Center for the Environment//NONSGML v1.0//EN
CALSCALE:GREGORIAN
METHOD:PUBLISH
BEGIN:VEVENT
UID:7663-0
SUMMARY:Sediment Stories: Using Organic Compounds from Lakes to Reconstruct Past Climates | Graduate Student Community Lunch 
DTSTART:20260421T170000Z
DTEND:20260421T180000Z
DTSTAMP:20260108T165434Z
LAST-MODIFIED:20260304T170109Z
SEQUENCE:0
DESCRIPTION:\nThe Center for the Environment hosts a monthly lunch for our Interdisciplinary Environmental Graduate Student Community to connect and learn together.\n\n\n\nEach month features 1-2 short talks by graduate students from across the university.\n\n\n\nJoin us in April for:\n\n\n\nSediment Stories: Using Organic Compounds from Lakes to Reconstruct Past Climatesby Abby Santis\, PhD Student in the Climate and Paleoclimate Group\; Earth\, Environmental\, and Planetary Science Department\n\n\n\nPlease RSVP here to attend.\n\n\n\nIf you would like to be added to our Env. Grad Student Email List\, please fill out this quick email list sign-up. \n\n\n\n\n
END:VEVENT
END:VCALENDAR